BEGIN:VCALENDAR
VERSION:2.0
PRODID:-//Humane Society of Cambria County PA - ECPv6.15.20//NONSGML v1.0//EN
CALSCALE:GREGORIAN
METHOD:PUBLISH
X-ORIGINAL-URL:https://www.humanecambria.org
X-WR-CALDESC:Events for Humane Society of Cambria County PA
REFRESH-INTERVAL;VALUE=DURATION:PT1H
X-Robots-Tag:noindex
X-PUBLISHED-TTL:PT1H
BEGIN:VTIMEZONE
TZID:America/New_York
BEGIN:DAYLIGHT
TZOFFSETFROM:-0500
TZOFFSETTO:-0400
TZNAME:EDT
DTSTART:20240310T070000
END:DAYLIGHT
BEGIN:STANDARD
TZOFFSETFROM:-0400
TZOFFSETTO:-0500
TZNAME:EST
DTSTART:20241103T060000
END:STANDARD
BEGIN:DAYLIGHT
TZOFFSETFROM:-0500
TZOFFSETTO:-0400
TZNAME:EDT
DTSTART:20250309T070000
END:DAYLIGHT
BEGIN:STANDARD
TZOFFSETFROM:-0400
TZOFFSETTO:-0500
TZNAME:EST
DTSTART:20251102T060000
END:STANDARD
BEGIN:DAYLIGHT
TZOFFSETFROM:-0500
TZOFFSETTO:-0400
TZNAME:EDT
DTSTART:20260308T070000
END:DAYLIGHT
BEGIN:STANDARD
TZOFFSETFROM:-0400
TZOFFSETTO:-0500
TZNAME:EST
DTSTART:20261101T060000
END:STANDARD
END:VTIMEZONE
BEGIN:VEVENT
DTSTART;TZID=America/New_York:20250914T130000
DTEND;TZID=America/New_York:20250914T150000
DTSTAMP:20260421T060503
CREATED:20250821T155846Z
LAST-MODIFIED:20250821T155846Z
UID:1979-1757854800-1757862000@www.humanecambria.org
SUMMARY:Members Only Meeting
DESCRIPTION:It’s no secret\, we appreciate our members!🐾 \nThat’s why with an HSCC membership\, we invite you to the shelter Sunday\, September 14 at 1pm to discuss the struggles and successes that have gotten our organization to where it is in 2025. We will also be sharing some exciting future goals and plans for our new building! Our members will also have a chance to ask questions and share concerns with team members and board members. \nIf you are not a member but are interested in attending\, you still have time to submit an application for 2025 membership! Your annual dues contribute to direct operations of the shelter and help care for the once homeless animals that reside here. Click here to view more information regarding a membership with HSCC or to submit an application today. (Physical membership forms can be found at the shelter and submitted in person.)\n \nWe ask members to please keep an eye on your email for your official invite!  \nWe couldn’t do this without our members!\nFrom every person and every paw here at HSCC\, we appreciate you! 
URL:https://www.humanecambria.org/event/members-only-meeting/
LOCATION:Humane Society of Cambria County\, 743 Galleria Drive Extenshion\, Johnstown\, PA\, 15904\, United States
ORGANIZER;CN="Humane Society of Cambria County":MAILTO:info@cambriacountyhs.com
END:VEVENT
BEGIN:VEVENT
DTSTART;TZID=America/New_York:20250927T180000
DTEND;TZID=America/New_York:20250927T210000
DTSTAMP:20260421T060503
CREATED:20250723T144548Z
LAST-MODIFIED:20250926T141550Z
UID:1929-1758996000-1759006800@www.humanecambria.org
SUMMARY:Claws & Paws CA$H BA$H
DESCRIPTION:  \n  \n  \n  \n  \n  \n  \nTHANK YOU TO ALL OUR SPONSORS! \nTITLE SPONSOR: 1ST SUMMIT BANK\nPLATINUM SPONSORS: CP Vets and Centennial Financial Group LLC \nGOLD SPONSOR: Berkebile Excavating\nSILVER SPONSOR: Cardiology Associates\, Forest Hills Excavating LLC \n \n  \nAdmission tickets are available at the shelter (cash only) for $25. \nNon-admission tickets are $10! (Eligible to win cash prizes pulled between 7pm-9pm)\nBoth admission/non-admission tickets can also be purchased through our raffle site at: www.humanecambria.net/shop\nTickets are also available on Eventbrite\, click here to purchase! \nJoin us for dinner and lots of fun in support of all the animals here at HSCC!\nCash prizes pulled every 15 minutes between 7pm-9pm with the grand prize being pulled at 9pm!\n50/50 tickets\, raffles\, pull tabs and more!! \n  \nSponsorship opportunities available\, please contact Kelli at: kruiz@cambriacountyhs.com or download our Sponsorship Form here: Cash Bash Sponsorship Form 2025 \n 
URL:https://www.humanecambria.org/event/claws-paws-cash-bash-3/
LOCATION:Pasquerilla Center\, 301 Napolean Street\, Johnstown\, PA\, 15901\, United States
END:VEVENT
END:VCALENDAR