BEGIN:VCALENDAR
VERSION:2.0
PRODID:-//Humane Society of Cambria County PA - ECPv6.15.20//NONSGML v1.0//EN
CALSCALE:GREGORIAN
METHOD:PUBLISH
X-ORIGINAL-URL:https://www.humanecambria.org
X-WR-CALDESC:Events for Humane Society of Cambria County PA
REFRESH-INTERVAL;VALUE=DURATION:PT1H
X-Robots-Tag:noindex
X-PUBLISHED-TTL:PT1H
BEGIN:VTIMEZONE
TZID:America/New_York
BEGIN:DAYLIGHT
TZOFFSETFROM:-0500
TZOFFSETTO:-0400
TZNAME:EDT
DTSTART:20240310T070000
END:DAYLIGHT
BEGIN:STANDARD
TZOFFSETFROM:-0400
TZOFFSETTO:-0500
TZNAME:EST
DTSTART:20241103T060000
END:STANDARD
BEGIN:DAYLIGHT
TZOFFSETFROM:-0500
TZOFFSETTO:-0400
TZNAME:EDT
DTSTART:20250309T070000
END:DAYLIGHT
BEGIN:STANDARD
TZOFFSETFROM:-0400
TZOFFSETTO:-0500
TZNAME:EST
DTSTART:20251102T060000
END:STANDARD
BEGIN:DAYLIGHT
TZOFFSETFROM:-0500
TZOFFSETTO:-0400
TZNAME:EDT
DTSTART:20260308T070000
END:DAYLIGHT
BEGIN:STANDARD
TZOFFSETFROM:-0400
TZOFFSETTO:-0500
TZNAME:EST
DTSTART:20261101T060000
END:STANDARD
END:VTIMEZONE
BEGIN:VEVENT
DTSTART;TZID=America/New_York:20250417T120000
DTEND;TZID=America/New_York:20250417T150000
DTSTAMP:20260420T021428
CREATED:20250417T162634Z
LAST-MODIFIED:20250417T162646Z
UID:1796-1744891200-1744902000@www.humanecambria.org
SUMMARY:Easter Egg-stravaganza
DESCRIPTION:  \nJoin us for pet pictures with the Easter bunny ($5 donation) and an egg hunt for our furry friends. This event is free to attend and fun for all ages!  \nAlso\, in honor of Easter’s date\, we’ll be doing $4 cat adoptions and $20 dog adoptions!  \nApproved application must be on file in order to adopt same day.  \nWe will not be processing applications during this event.
URL:https://www.humanecambria.org/event/easter-egg-stravaganza/
LOCATION:Humane Society of Cambria County\, 743 Galleria Drive Extenshion\, Johnstown\, PA\, 15904\, United States
ORGANIZER;CN="Humane Society of Cambria County":MAILTO:info@cambriacountyhs.com
END:VEVENT
END:VCALENDAR